BEGIN:VCALENDAR
VERSION:2.0
PRODID:-//Crow Peak Brewing - ECPv6.15.16//NONSGML v1.0//EN
CALSCALE:GREGORIAN
METHOD:PUBLISH
X-WR-CALNAME:Crow Peak Brewing
X-ORIGINAL-URL:https://crowpeakbrewing.com
X-WR-CALDESC:Events for Crow Peak Brewing
REFRESH-INTERVAL;VALUE=DURATION:PT1H
X-Robots-Tag:noindex
X-PUBLISHED-TTL:PT1H
BEGIN:VTIMEZONE
TZID:America/Denver
BEGIN:DAYLIGHT
TZOFFSETFROM:-0700
TZOFFSETTO:-0600
TZNAME:MDT
DTSTART:20190310T090000
END:DAYLIGHT
BEGIN:STANDARD
TZOFFSETFROM:-0600
TZOFFSETTO:-0700
TZNAME:MST
DTSTART:20191103T080000
END:STANDARD
BEGIN:DAYLIGHT
TZOFFSETFROM:-0700
TZOFFSETTO:-0600
TZNAME:MDT
DTSTART:20200308T090000
END:DAYLIGHT
BEGIN:STANDARD
TZOFFSETFROM:-0600
TZOFFSETTO:-0700
TZNAME:MST
DTSTART:20201101T080000
END:STANDARD
BEGIN:DAYLIGHT
TZOFFSETFROM:-0700
TZOFFSETTO:-0600
TZNAME:MDT
DTSTART:20210314T090000
END:DAYLIGHT
BEGIN:STANDARD
TZOFFSETFROM:-0600
TZOFFSETTO:-0700
TZNAME:MST
DTSTART:20211107T080000
END:STANDARD
END:VTIMEZONE
BEGIN:VEVENT
DTSTART;TZID=America/Denver:20200124T120000
DTEND;TZID=America/Denver:20200124T150000
DTSTAMP:20260421T105440
CREATED:20191217T010543Z
LAST-MODIFIED:20200119T103428Z
UID:8188-1579867200-1579878000@crowpeakbrewing.com
SUMMARY:Hector Segura
DESCRIPTION:Live Rock & Roll
URL:https://crowpeakbrewing.com/event/hector-seguro/
LOCATION:Crow Peak Brewery
CATEGORIES:Music
ATTACH;FMTTYPE=image/jpeg:https://crowpeakbrewing.com/wp-content/uploads/2019/12/48983814_583149048796950_2467248558802206720_n.jpg
END:VEVENT
END:VCALENDAR