BEGIN:VCALENDAR
VERSION:2.0
PRODID:-//Crow Peak Brewing - ECPv6.15.16//NONSGML v1.0//EN
CALSCALE:GREGORIAN
METHOD:PUBLISH
X-ORIGINAL-URL:https://crowpeakbrewing.com
X-WR-CALDESC:Events for Crow Peak Brewing
REFRESH-INTERVAL;VALUE=DURATION:PT1H
X-Robots-Tag:noindex
X-PUBLISHED-TTL:PT1H
BEGIN:VTIMEZONE
TZID:America/Denver
BEGIN:DAYLIGHT
TZOFFSETFROM:-0700
TZOFFSETTO:-0600
TZNAME:MDT
DTSTART:20250309T090000
END:DAYLIGHT
BEGIN:STANDARD
TZOFFSETFROM:-0600
TZOFFSETTO:-0700
TZNAME:MST
DTSTART:20251102T080000
END:STANDARD
BEGIN:DAYLIGHT
TZOFFSETFROM:-0700
TZOFFSETTO:-0600
TZNAME:MDT
DTSTART:20260308T090000
END:DAYLIGHT
BEGIN:STANDARD
TZOFFSETFROM:-0600
TZOFFSETTO:-0700
TZNAME:MST
DTSTART:20261101T080000
END:STANDARD
BEGIN:DAYLIGHT
TZOFFSETFROM:-0700
TZOFFSETTO:-0600
TZNAME:MDT
DTSTART:20270314T090000
END:DAYLIGHT
BEGIN:STANDARD
TZOFFSETFROM:-0600
TZOFFSETTO:-0700
TZNAME:MST
DTSTART:20271107T080000
END:STANDARD
END:VTIMEZONE
BEGIN:VEVENT
DTSTART;TZID=America/Denver:20260310T180000
DTEND;TZID=America/Denver:20260310T200000
DTSTAMP:20260425T054221
CREATED:20260303T205614Z
LAST-MODIFIED:20260303T205614Z
UID:64726-1773165600-1773172800@crowpeakbrewing.com
SUMMARY:SD Craft Beer Week Bingo w/ Ben
DESCRIPTION:It’s South Dakota Craft Beer Week and we’re celebrating with a special bingo night! The prize wheel will be back so you have a chance to win extra bingo cards\, merch and beer tokens! \nWe’re also introducing PITCHERS of Canyon Cream\, Lookout Lager\, Redwater Irish Ale and Speerbeer. \nMore beer\, more bingo\, more fun 🎉 \nYou won’t want to miss it!
URL:https://crowpeakbrewing.com/event/sd-craft-beer-week-bingo-w-ben/
ATTACH;FMTTYPE=image/png:https://crowpeakbrewing.com/wp-content/uploads/2026/03/Untitled-design-2.png
END:VEVENT
END:VCALENDAR