BEGIN:VCALENDAR
VERSION:2.0
PRODID:-//Crow Peak Brewing - ECPv6.15.16//NONSGML v1.0//EN
CALSCALE:GREGORIAN
METHOD:PUBLISH
X-ORIGINAL-URL:https://crowpeakbrewing.com
X-WR-CALDESC:Events for Crow Peak Brewing
REFRESH-INTERVAL;VALUE=DURATION:PT1H
X-Robots-Tag:noindex
X-PUBLISHED-TTL:PT1H
BEGIN:VTIMEZONE
TZID:America/Denver
BEGIN:DAYLIGHT
TZOFFSETFROM:-0700
TZOFFSETTO:-0600
TZNAME:MDT
DTSTART:20250309T090000
END:DAYLIGHT
BEGIN:STANDARD
TZOFFSETFROM:-0600
TZOFFSETTO:-0700
TZNAME:MST
DTSTART:20251102T080000
END:STANDARD
BEGIN:DAYLIGHT
TZOFFSETFROM:-0700
TZOFFSETTO:-0600
TZNAME:MDT
DTSTART:20260308T090000
END:DAYLIGHT
BEGIN:STANDARD
TZOFFSETFROM:-0600
TZOFFSETTO:-0700
TZNAME:MST
DTSTART:20261101T080000
END:STANDARD
BEGIN:DAYLIGHT
TZOFFSETFROM:-0700
TZOFFSETTO:-0600
TZNAME:MDT
DTSTART:20270314T090000
END:DAYLIGHT
BEGIN:STANDARD
TZOFFSETFROM:-0600
TZOFFSETTO:-0700
TZNAME:MST
DTSTART:20271107T080000
END:STANDARD
END:VTIMEZONE
BEGIN:VEVENT
DTSTART;TZID=America/Denver:20260309T120000
DTEND;TZID=America/Denver:20260309T220000
DTSTAMP:20260421T071534
CREATED:20260304T184725Z
LAST-MODIFIED:20260304T185033Z
UID:64756-1773057600-1773093600@crowpeakbrewing.com
SUMMARY:SD Craft Beer Week Kickoff
DESCRIPTION:Cheers to Craft Beer Week! Crow Peak is hiding 25 beer tokens around town for you to find! Redeemable anytime\, not just during craft beer week 🙂\n$5 Pints All Day Long!
URL:https://crowpeakbrewing.com/event/south-dakota-craft-beer-week-kickoff/
CATEGORIES:Community
ATTACH;FMTTYPE=image/jpeg:https://crowpeakbrewing.com/wp-content/uploads/2026/03/craftbeerweek.jpg
END:VEVENT
END:VCALENDAR