BEGIN:VCALENDAR
VERSION:2.0
PRODID:-//Crow Peak Brewing - ECPv6.15.16//NONSGML v1.0//EN
CALSCALE:GREGORIAN
METHOD:PUBLISH
X-WR-CALNAME:Crow Peak Brewing
X-ORIGINAL-URL:https://crowpeakbrewing.com
X-WR-CALDESC:Events for Crow Peak Brewing
REFRESH-INTERVAL;VALUE=DURATION:PT1H
X-Robots-Tag:noindex
X-PUBLISHED-TTL:PT1H
BEGIN:VTIMEZONE
TZID:America/Denver
BEGIN:DAYLIGHT
TZOFFSETFROM:-0700
TZOFFSETTO:-0600
TZNAME:MDT
DTSTART:20240310T090000
END:DAYLIGHT
BEGIN:STANDARD
TZOFFSETFROM:-0600
TZOFFSETTO:-0700
TZNAME:MST
DTSTART:20241103T080000
END:STANDARD
BEGIN:DAYLIGHT
TZOFFSETFROM:-0700
TZOFFSETTO:-0600
TZNAME:MDT
DTSTART:20250309T090000
END:DAYLIGHT
BEGIN:STANDARD
TZOFFSETFROM:-0600
TZOFFSETTO:-0700
TZNAME:MST
DTSTART:20251102T080000
END:STANDARD
BEGIN:DAYLIGHT
TZOFFSETFROM:-0700
TZOFFSETTO:-0600
TZNAME:MDT
DTSTART:20260308T090000
END:DAYLIGHT
BEGIN:STANDARD
TZOFFSETFROM:-0600
TZOFFSETTO:-0700
TZNAME:MST
DTSTART:20261101T080000
END:STANDARD
END:VTIMEZONE
BEGIN:VEVENT
DTSTART;TZID=America/Denver:20250708T180000
DTEND;TZID=America/Denver:20250708T200000
DTSTAMP:20260421T200459
CREATED:20240619T165425Z
LAST-MODIFIED:20250702T213754Z
UID:63964-1751997600-1752004800@crowpeakbrewing.com
SUMMARY:Vance Umphrey
DESCRIPTION:We’re so happy to have Vance the Pan Man back! Come and listen to him and enjoy a great beer with some great folks!
URL:https://crowpeakbrewing.com/event/vance-umphrey-2/
CATEGORIES:Music
ATTACH;FMTTYPE=image/jpeg:https://crowpeakbrewing.com/wp-content/uploads/2022/01/vanceumphrey.jpg
END:VEVENT
BEGIN:VEVENT
DTSTART;TZID=America/Denver:20250717T180000
DTEND;TZID=America/Denver:20250717T200000
DTSTAMP:20260421T200459
CREATED:20221122T210507Z
LAST-MODIFIED:20250709T205425Z
UID:41245-1752775200-1752782400@crowpeakbrewing.com
SUMMARY:Adda Boyd
DESCRIPTION:Local Country/Folk Songwriter
URL:https://crowpeakbrewing.com/event/adda-boyd/
LOCATION:Crow Peak Brewery
CATEGORIES:Music
ATTACH;FMTTYPE=image/jpeg:https://crowpeakbrewing.com/wp-content/uploads/2022/11/addaboyd.jpg
END:VEVENT
BEGIN:VEVENT
DTSTART;TZID=America/Denver:20250719T170000
DTEND;TZID=America/Denver:20250719T200000
DTSTAMP:20260421T200459
CREATED:20221101T215506Z
LAST-MODIFIED:20250702T214112Z
UID:40237-1752944400-1752955200@crowpeakbrewing.com
SUMMARY:Sivan and Friends
DESCRIPTION:Sip some suds to the super saxy sounds of Sivan Hoch and co
URL:https://crowpeakbrewing.com/event/sivan-hoch-2/
LOCATION:Crow Peak Brewery
CATEGORIES:Music
ATTACH;FMTTYPE=image/jpeg:https://crowpeakbrewing.com/wp-content/uploads/2022/07/sivanhoch.jpg
END:VEVENT
BEGIN:VEVENT
DTSTART;TZID=America/Denver:20250725T170000
DTEND;TZID=America/Denver:20250725T210000
DTSTAMP:20260421T200459
CREATED:20220722T211309Z
LAST-MODIFIED:20250702T214157Z
UID:35445-1753462800-1753477200@crowpeakbrewing.com
SUMMARY:Mike Oregano
DESCRIPTION:Truly a unique act unlike anything yet\, Mike Oregano has fully commercialized both the aesthetic and sonic details of the “One Man Band” concept. Performing in a unique Reggae/Hip Hop/Jazz style\, he is sure to turn heads wherever he is rockin’!\nMike uses his feet to hit the drums as well as an array of fully intuitive pedal boards complete with: loopers\, bass splits\, synthesizer sounds\, etc. He records the rhythm section (guitar and bass) on the spot\, and layers over it with drums\, solos\, fills\, etc. all while singing\, rapping\, or talk boxing\, and soloing on his guitar simultaneously.
URL:https://crowpeakbrewing.com/event/mike-oregano/
LOCATION:Crow Peak Brewery
CATEGORIES:Music
ATTACH;FMTTYPE=image/jpeg:https://crowpeakbrewing.com/wp-content/uploads/2022/07/mikeoregano2.jpg
END:VEVENT
BEGIN:VEVENT
DTSTART;TZID=America/Denver:20250727T160000
DTEND;TZID=America/Denver:20250727T200000
DTSTAMP:20260421T200459
CREATED:20231121T185723Z
LAST-MODIFIED:20250702T214314Z
UID:58340-1753632000-1753646400@crowpeakbrewing.com
SUMMARY:The Elevens
DESCRIPTION:Get ready for some Dead tunes!
URL:https://crowpeakbrewing.com/event/the-elevens/
LOCATION:Crow Peak Brewery
CATEGORIES:Music
ATTACH;FMTTYPE=image/jpeg:https://crowpeakbrewing.com/wp-content/uploads/2023/11/elevens420.jpg
END:VEVENT
END:VCALENDAR