BEGIN:VCALENDAR
VERSION:2.0
PRODID:-//Crow Peak Brewing - ECPv6.15.16//NONSGML v1.0//EN
CALSCALE:GREGORIAN
METHOD:PUBLISH
X-WR-CALNAME:Crow Peak Brewing
X-ORIGINAL-URL:https://crowpeakbrewing.com
X-WR-CALDESC:Events for Crow Peak Brewing
REFRESH-INTERVAL;VALUE=DURATION:PT1H
X-Robots-Tag:noindex
X-PUBLISHED-TTL:PT1H
BEGIN:VTIMEZONE
TZID:America/Denver
BEGIN:DAYLIGHT
TZOFFSETFROM:-0700
TZOFFSETTO:-0600
TZNAME:MDT
DTSTART:20250309T090000
END:DAYLIGHT
BEGIN:STANDARD
TZOFFSETFROM:-0600
TZOFFSETTO:-0700
TZNAME:MST
DTSTART:20251102T080000
END:STANDARD
BEGIN:DAYLIGHT
TZOFFSETFROM:-0700
TZOFFSETTO:-0600
TZNAME:MDT
DTSTART:20260308T090000
END:DAYLIGHT
BEGIN:STANDARD
TZOFFSETFROM:-0600
TZOFFSETTO:-0700
TZNAME:MST
DTSTART:20261101T080000
END:STANDARD
BEGIN:DAYLIGHT
TZOFFSETFROM:-0700
TZOFFSETTO:-0600
TZNAME:MDT
DTSTART:20270314T090000
END:DAYLIGHT
BEGIN:STANDARD
TZOFFSETFROM:-0600
TZOFFSETTO:-0700
TZNAME:MST
DTSTART:20271107T080000
END:STANDARD
END:VTIMEZONE
BEGIN:VEVENT
DTSTART;TZID=America/Denver:20260103T170000
DTEND;TZID=America/Denver:20260103T200000
DTSTAMP:20260421T105453
CREATED:20251218T041151Z
LAST-MODIFIED:20251222T195321Z
UID:64528-1767459600-1767470400@crowpeakbrewing.com
SUMMARY:Live Music w/ JJ Kent
DESCRIPTION:Join us on Friday\, January 3rd for live music with JJ Kent\, a talented singer-songwriter known for his Americana\, folk\, and roots-driven sound. With heartfelt songwriting\, rich vocals\, and a style that blends classic storytelling with modern edge\, JJ Kent delivers a set that’s perfect for a relaxed night in the taproom. \nGrab a pint\, settle in with friends\, and enjoy great beer paired with great music!
URL:https://crowpeakbrewing.com/event/live-music-w-jj-kent/
CATEGORIES:Music
END:VEVENT
BEGIN:VEVENT
DTSTART;TZID=America/Denver:20260109T180000
DTEND;TZID=America/Denver:20260109T200000
DTSTAMP:20260421T105453
CREATED:20251223T033117Z
LAST-MODIFIED:20251223T033117Z
UID:64532-1767981600-1767988800@crowpeakbrewing.com
SUMMARY:Live Music w/ The Pocket Junkies
DESCRIPTION:You won’t want to miss this evening of funk! Led by seasoned instrumentalist Sivan Hoch\, The Pocket Junkies bring jazz\, funk and blues together. Booty shaking encouraged  
URL:https://crowpeakbrewing.com/event/live-music-w-the-pocket-junkies/
LOCATION:Crow Peak Brewery
CATEGORIES:Music
ATTACH;FMTTYPE=image/png:https://crowpeakbrewing.com/wp-content/uploads/2025/12/ChatGPT-Image-Dec-22-2025-01_27_53-PM.png
END:VEVENT
BEGIN:VEVENT
DTSTART;TZID=America/Denver:20260116T170000
DTEND;TZID=America/Denver:20260116T190000
DTSTAMP:20260421T105453
CREATED:20260102T050449Z
LAST-MODIFIED:20260102T050449Z
UID:64536-1768582800-1768590000@crowpeakbrewing.com
SUMMARY:Live Music with BitterSweet
DESCRIPTION:Join us for a night of acoustic rock n’ roll and chill vibes led by Black Hills local Terrence Long. Music starts at 5pm!
URL:https://crowpeakbrewing.com/event/live-music-with-bittersweet/
CATEGORIES:Music
ATTACH;FMTTYPE=image/png:https://crowpeakbrewing.com/wp-content/uploads/2026/01/0aeae500-72d7-429f-82aa-78aa662ad5d9.png
END:VEVENT
BEGIN:VEVENT
DTSTART;TZID=America/Denver:20260117T180000
DTEND;TZID=America/Denver:20260117T210000
DTSTAMP:20260421T105453
CREATED:20260105T043823Z
LAST-MODIFIED:20260105T043823Z
UID:64549-1768672800-1768683600@crowpeakbrewing.com
SUMMARY:Live Music with Heath Johnson
DESCRIPTION:Kick off your Saturday night the right way with good beer\, good people\, and some seriously good tunes. Heath Johnson is rolling into the taproom to serve up a mix of feel-good\, toe-tapping acoustic jams that pair perfectly with your favorite Crow Peak pint. We’ll see you there!
URL:https://crowpeakbrewing.com/event/live-music-with-heath-johnson-2/
CATEGORIES:Music
ATTACH;FMTTYPE=image/png:https://crowpeakbrewing.com/wp-content/uploads/2026/01/heath.png
END:VEVENT
BEGIN:VEVENT
DTSTART;TZID=America/Denver:20260118T150000
DTEND;TZID=America/Denver:20260118T190000
DTSTAMP:20260421T105453
CREATED:20260108T164523Z
LAST-MODIFIED:20260108T164523Z
UID:64573-1768748400-1768762800@crowpeakbrewing.com
SUMMARY:Open Mic!
DESCRIPTION:Join us every 1st and 3rd Sunday for Open Mic from 3-7pm! Hop on the mic and show us what you’ve got\, or grab a beer and simply enjoy the incredible local talent. It’s really become the place to be!
URL:https://crowpeakbrewing.com/event/open-mic/
CATEGORIES:Community,Music
ATTACH;FMTTYPE=image/png:https://crowpeakbrewing.com/wp-content/uploads/2026/01/ChatGPT-Image-Jan-8-2026-09_42_14-AM.png
END:VEVENT
BEGIN:VEVENT
DTSTART;TZID=America/Denver:20260121T180000
DTEND;TZID=America/Denver:20260121T200000
DTSTAMP:20260421T105453
CREATED:20260106T202800Z
LAST-MODIFIED:20260106T202800Z
UID:64552-1769018400-1769025600@crowpeakbrewing.com
SUMMARY:Chinook Days Pub Crawl and Live Music by Waylon Mendoza
DESCRIPTION:Kick off the annual Chinook Days pub crawl at the Crow! Waylon Mendoza will be playing 6-8pm and there will be plenty of good beer flowin to get the pub crawl started.
URL:https://crowpeakbrewing.com/event/chinook-days-pub-crawl-and-live-music-by-waylon-mendoza/
CATEGORIES:Community,Music
END:VEVENT
BEGIN:VEVENT
DTSTART;TZID=America/Denver:20260123T170000
DTEND;TZID=America/Denver:20260123T200000
DTSTAMP:20260421T105453
CREATED:20260108T163110Z
LAST-MODIFIED:20260117T041135Z
UID:64565-1769187600-1769198400@crowpeakbrewing.com
SUMMARY:Kill the Keg Chinook Days After Party w/ Live Music by John Dale
DESCRIPTION:Not an *after* party anymore since the Snow Sculptures event is cancelled… but we’re still bringing the party and carrying on the Chinook Days fun! Join us for our Kill the Keg Party where we’re clearing house\, cranking tunes\, and making room for brand-new brews. Make sure to get here early to secure a cheap brew!\n\n $1 Pints of:\nAncient Mariner\nFalling Leaves Amber Ale(while supplies last – and they WILL run out)\n\nHelp us send these fan favorites off in proper Crow Peak fashion. Once Ancient Mariner and Falling Leaves eat the dust\, we’re tapping some exciting new beers:\n Coming in HOT:\nUnnatural Light Dark IPA\nCanon Tajo Mexican Lager\nDark Helmet Schwarzbier\n\nAdd in live music from 5–7 PM by John Dale and Good Hand Band\, cozy winter vibes\, and shareables with friends and we’ve got the ultimate Chinook Days nightcap.
URL:https://crowpeakbrewing.com/event/kill-the-keg-chinook-days-after-party-w-live-music-by-john-dale-2/
CATEGORIES:Community,Music
ATTACH;FMTTYPE=image/png:https://crowpeakbrewing.com/wp-content/uploads/2026/01/kill-the-keg-Chinook-Days-after-pary-1.png
END:VEVENT
END:VCALENDAR