BEGIN:VCALENDAR
VERSION:2.0
PRODID:-//Crow Peak Brewing - ECPv6.15.16//NONSGML v1.0//EN
CALSCALE:GREGORIAN
METHOD:PUBLISH
X-ORIGINAL-URL:https://crowpeakbrewing.com
X-WR-CALDESC:Events for Crow Peak Brewing
REFRESH-INTERVAL;VALUE=DURATION:PT1H
X-Robots-Tag:noindex
X-PUBLISHED-TTL:PT1H
BEGIN:VTIMEZONE
TZID:America/Denver
BEGIN:DAYLIGHT
TZOFFSETFROM:-0700
TZOFFSETTO:-0600
TZNAME:MDT
DTSTART:20250309T090000
END:DAYLIGHT
BEGIN:STANDARD
TZOFFSETFROM:-0600
TZOFFSETTO:-0700
TZNAME:MST
DTSTART:20251102T080000
END:STANDARD
BEGIN:DAYLIGHT
TZOFFSETFROM:-0700
TZOFFSETTO:-0600
TZNAME:MDT
DTSTART:20260308T090000
END:DAYLIGHT
BEGIN:STANDARD
TZOFFSETFROM:-0600
TZOFFSETTO:-0700
TZNAME:MST
DTSTART:20261101T080000
END:STANDARD
BEGIN:DAYLIGHT
TZOFFSETFROM:-0700
TZOFFSETTO:-0600
TZNAME:MDT
DTSTART:20270314T090000
END:DAYLIGHT
BEGIN:STANDARD
TZOFFSETFROM:-0600
TZOFFSETTO:-0700
TZNAME:MST
DTSTART:20271107T080000
END:STANDARD
END:VTIMEZONE
BEGIN:VEVENT
DTSTART;TZID=America/Denver:20260412T140000
DTEND;TZID=America/Denver:20260412T190000
DTSTAMP:20260421T080736
CREATED:20260406T180317Z
LAST-MODIFIED:20260406T180317Z
UID:64789-1776002400-1776020400@crowpeakbrewing.com
SUMMARY:Open Mic w/ Special Opener Tedrow Hudenstein
DESCRIPTION:Since we will be CLOSED Sunday April 5th for Easter our Open Mic schedule for the month will be April 12th and April 19th!\nOur featured artist for April 12th is Tedrow Hohenstein!\n\nIt’s our way of saying thank you to the incredible musicians in our community and giving you\, our beer-loving music fans\, a chance to discover your next favorite local artist.\nHere’s how it works: 2–3 PM — Featured Local Artist 3 PM — Open Mic Begins All day — Cold beer\, good vibes\, and Crow Peak energy\nCome support local\, grab a pint\, and be part of the crowd that cheers on Spearfish’s next big sound. You never know — the artist you hear today could be headlining tomorrow.
URL:https://crowpeakbrewing.com/event/open-mic-w-special-opener-tedrow-hudenstein/
CATEGORIES:Community,Music
END:VEVENT
END:VCALENDAR