BEGIN:VCALENDAR
VERSION:2.0
PRODID:-//Crow Peak Brewing - ECPv6.15.16//NONSGML v1.0//EN
CALSCALE:GREGORIAN
METHOD:PUBLISH
X-ORIGINAL-URL:https://crowpeakbrewing.com
X-WR-CALDESC:Events for Crow Peak Brewing
REFRESH-INTERVAL;VALUE=DURATION:PT1H
X-Robots-Tag:noindex
X-PUBLISHED-TTL:PT1H
BEGIN:VTIMEZONE
TZID:America/Denver
BEGIN:DAYLIGHT
TZOFFSETFROM:-0700
TZOFFSETTO:-0600
TZNAME:MDT
DTSTART:20250309T090000
END:DAYLIGHT
BEGIN:STANDARD
TZOFFSETFROM:-0600
TZOFFSETTO:-0700
TZNAME:MST
DTSTART:20251102T080000
END:STANDARD
BEGIN:DAYLIGHT
TZOFFSETFROM:-0700
TZOFFSETTO:-0600
TZNAME:MDT
DTSTART:20260308T090000
END:DAYLIGHT
BEGIN:STANDARD
TZOFFSETFROM:-0600
TZOFFSETTO:-0700
TZNAME:MST
DTSTART:20261101T080000
END:STANDARD
BEGIN:DAYLIGHT
TZOFFSETFROM:-0700
TZOFFSETTO:-0600
TZNAME:MDT
DTSTART:20270314T090000
END:DAYLIGHT
BEGIN:STANDARD
TZOFFSETFROM:-0600
TZOFFSETTO:-0700
TZNAME:MST
DTSTART:20271107T080000
END:STANDARD
END:VTIMEZONE
BEGIN:VEVENT
DTSTART;TZID=America/Denver:20260425T180000
DTEND;TZID=America/Denver:20260425T200000
DTSTAMP:20260421T080736
CREATED:20260417T035637Z
LAST-MODIFIED:20260417T035637Z
UID:64838-1777140000-1777147200@crowpeakbrewing.com
SUMMARY:Live Music w/ AgainsttheSea
DESCRIPTION:AgainsttheSea is an acoustic pop duo from Spearfish\, South Dakota that prefers to use nontraditional lyrics and melodies to describe life and faith.
URL:https://crowpeakbrewing.com/event/live-music-w-againstthesea/
CATEGORIES:Music
ATTACH;FMTTYPE=image/jpeg:https://crowpeakbrewing.com/wp-content/uploads/2026/04/674125999_1608699054221939_9204967085832623086_n.jpg
END:VEVENT
END:VCALENDAR