BEGIN:VCALENDAR
VERSION:2.0
PRODID:-//Crow Peak Brewing - ECPv6.15.16//NONSGML v1.0//EN
CALSCALE:GREGORIAN
METHOD:PUBLISH
X-ORIGINAL-URL:https://crowpeakbrewing.com
X-WR-CALDESC:Events for Crow Peak Brewing
REFRESH-INTERVAL;VALUE=DURATION:PT1H
X-Robots-Tag:noindex
X-PUBLISHED-TTL:PT1H
BEGIN:VTIMEZONE
TZID:America/Denver
BEGIN:DAYLIGHT
TZOFFSETFROM:-0700
TZOFFSETTO:-0600
TZNAME:MDT
DTSTART:20250309T090000
END:DAYLIGHT
BEGIN:STANDARD
TZOFFSETFROM:-0600
TZOFFSETTO:-0700
TZNAME:MST
DTSTART:20251102T080000
END:STANDARD
BEGIN:DAYLIGHT
TZOFFSETFROM:-0700
TZOFFSETTO:-0600
TZNAME:MDT
DTSTART:20260308T090000
END:DAYLIGHT
BEGIN:STANDARD
TZOFFSETFROM:-0600
TZOFFSETTO:-0700
TZNAME:MST
DTSTART:20261101T080000
END:STANDARD
BEGIN:DAYLIGHT
TZOFFSETFROM:-0700
TZOFFSETTO:-0600
TZNAME:MDT
DTSTART:20270314T090000
END:DAYLIGHT
BEGIN:STANDARD
TZOFFSETFROM:-0600
TZOFFSETTO:-0700
TZNAME:MST
DTSTART:20271107T080000
END:STANDARD
END:VTIMEZONE
BEGIN:VEVENT
DTSTART;TZID=America/Denver:20260505T183000
DTEND;TZID=America/Denver:20260505T213000
DTSTAMP:20260424T072118
CREATED:20260417T030454Z
LAST-MODIFIED:20260417T030454Z
UID:64832-1778005800-1778016600@crowpeakbrewing.com
SUMMARY:Live Music with Wayfarer and Dylan Lewis- Cinco de Mayo event with food specials at Pit14!
DESCRIPTION:We invite you to a unique and special new event\, hopefully the first of many such fresh and unique artist showcases on our new outdoor stage.Crow Peak Brewing Presents:“The now for something completely different music series”Vol.1FREE SHOWALL AGESMusic will start at 6:30.Beer All Day.\nWayfarer (Denver Western Heavy Metal):https://www.youtube.com/watch?v=y8c0HEe041w(KEXP Live in studio performance)\n-Steeped as deeply in the wells of gothic country and Americana as they are in black metal\, WAYFARER have given a sound and a face to the American West in the world of heavy music.\nHailing from Denver\, Colorado\, and having carved out their identity for over a decade with five full length albums and tours around the world – the band are putting the final notes on the chapter that started with the heralded release of AMERICAN GOTHIC.\nReleased in late 2023 to acclaim for music publications worldwide\, the album placed at or near the top in many year-end accolades from sources like Rolling Stone\, Metal Hammer\, Decibel Magazine and more – and saw the band make their mark at festival and club stages around the world.\nThey ride across the United States one final time for the AMERICAN GOTHIC era\, alongside Finland’s mind melting ORANSSI PAZUZU in their first proper US tour in nearly a decade. WAYFARER will take stages across the country with riff soaked elegies of blood and gunpowder in tow.\nWith Special Guest opener\, local favoriteDylan Lewis (Black Hills Americana)-recognized for his work in the Americana\, and folk scene\, Known blending traditional roots music with original songwriting
URL:https://crowpeakbrewing.com/event/live-music-with-wayfarer-and-dylan-lewis-cinco-de-mayo-event-with-food-specials-at-pit14/
CATEGORIES:Community,Music
ATTACH;FMTTYPE=image/jpeg:https://crowpeakbrewing.com/wp-content/uploads/2026/04/669061408_1543813971079666_1640624605545593577_n.jpg
END:VEVENT
BEGIN:VEVENT
DTSTART;TZID=America/Denver:20260506T180000
DTEND;TZID=America/Denver:20260506T200000
DTSTAMP:20260424T072118
CREATED:20260424T043628Z
LAST-MODIFIED:20260424T043628Z
UID:64858-1778090400-1778097600@crowpeakbrewing.com
SUMMARY:Live Music with Lucas Olson
DESCRIPTION:Smooth acoustic jams paired with Wine Wednesday ($1 glasses of wine all day) makes for the perfect mid-week pick me up! We’ll see you there!
URL:https://crowpeakbrewing.com/event/live-music-with-lucas-olson-2/
CATEGORIES:Music
ATTACH;FMTTYPE=image/png:https://crowpeakbrewing.com/wp-content/uploads/2026/04/ChatGPT-Image-Apr-23-2026-10_33_29-PM.png
END:VEVENT
BEGIN:VEVENT
DTSTART;VALUE=DATE:20260604
DTEND;VALUE=DATE:20260608
DTSTAMP:20260424T072118
CREATED:20260424T042253Z
LAST-MODIFIED:20260424T042253Z
UID:64852-1780531200-1780876799@crowpeakbrewing.com
SUMMARY:605 FEST
DESCRIPTION:Join us June 4–7th for the 605 Music & Community Clean Up Fest—a full weekend dedicated to celebrating everything that makes the 605 so dang special. We’re throwing it this weekend for a reason… 605 Day is June 5th\, and we’re turning it into a multi-day celebration of our area code\, our community\, and the place we’re lucky enough to call home. \nWe’re packing the weekend with:\n🎶 Live music all weekend long\n🛍️ Vendor market featuring local artists\, makers & shops\n🎟️ Silent auction supporting community initiatives\n🎯 Games + activities for all ages\n🧤 Community-wide clean up event (stay tuned for details on this!)\n🍺 Drink specials all weekend long \nMUSIC LINE UP:\nBitterSweet Duo\nHumbletown\nOrion and Stacey Potter\nAndy Babb Duo\nRyan Little Eagle\nThe Spine Stealers\n…& MORE TO BE ANNOUNCED!! \nThis is a free event\, built for the community\, by the community. Whether you’re here for the music\, the mission\, or just a cold pint with your people—there’s a place for you. \n👉 Small businesses\, artists\, and local vendors—if you want to team up with us to make this weekend extra special\, we’d love to hear from you. Reach out and let’s make some magic together.
URL:https://crowpeakbrewing.com/event/605-fest/
CATEGORIES:Community,Music
ATTACH;FMTTYPE=image/png:https://crowpeakbrewing.com/wp-content/uploads/2026/04/605-Fest.png
END:VEVENT
END:VCALENDAR