BEGIN:VCALENDAR
VERSION:2.0
PRODID:-//Crow Peak Brewing - ECPv6.15.16//NONSGML v1.0//EN
CALSCALE:GREGORIAN
METHOD:PUBLISH
X-ORIGINAL-URL:https://crowpeakbrewing.com
X-WR-CALDESC:Events for Crow Peak Brewing
REFRESH-INTERVAL;VALUE=DURATION:PT1H
X-Robots-Tag:noindex
X-PUBLISHED-TTL:PT1H
BEGIN:VTIMEZONE
TZID:America/Denver
BEGIN:DAYLIGHT
TZOFFSETFROM:-0700
TZOFFSETTO:-0600
TZNAME:MDT
DTSTART:20190310T090000
END:DAYLIGHT
BEGIN:STANDARD
TZOFFSETFROM:-0600
TZOFFSETTO:-0700
TZNAME:MST
DTSTART:20191103T080000
END:STANDARD
BEGIN:DAYLIGHT
TZOFFSETFROM:-0700
TZOFFSETTO:-0600
TZNAME:MDT
DTSTART:20200308T090000
END:DAYLIGHT
BEGIN:STANDARD
TZOFFSETFROM:-0600
TZOFFSETTO:-0700
TZNAME:MST
DTSTART:20201101T080000
END:STANDARD
BEGIN:DAYLIGHT
TZOFFSETFROM:-0700
TZOFFSETTO:-0600
TZNAME:MDT
DTSTART:20210314T090000
END:DAYLIGHT
BEGIN:STANDARD
TZOFFSETFROM:-0600
TZOFFSETTO:-0700
TZNAME:MST
DTSTART:20211107T080000
END:STANDARD
END:VTIMEZONE
BEGIN:VEVENT
DTSTART;TZID=America/Denver:20200305T130000
DTEND;TZID=America/Denver:20200305T160000
DTSTAMP:20260421T064248
CREATED:20191214T041911Z
LAST-MODIFIED:20191214T041911Z
UID:8138-1583413200-1583424000@crowpeakbrewing.com
SUMMARY:Joseph Huber
DESCRIPTION:Joseph Huber is hitting the road again and bringing his fellow musician friends Eston Bennett (bass) and Kenny Leiser (fiddle & guitar) to play songs off of his latest album ‘Moondog’ as well as other old favorites. Spread the word!
URL:https://crowpeakbrewing.com/event/joseph-huber/
LOCATION:Crow Peak Brewery
CATEGORIES:Music
ATTACH;FMTTYPE=image/jpeg:https://crowpeakbrewing.com/wp-content/uploads/2019/12/79649871_3032962013394766_317951193357746176_o.jpg
END:VEVENT
BEGIN:VEVENT
DTSTART;TZID=America/Denver:20200307T110000
DTEND;TZID=America/Denver:20200307T140000
DTSTAMP:20260421T064248
CREATED:20200228T024954Z
LAST-MODIFIED:20200228T030530Z
UID:9520-1583578800-1583589600@crowpeakbrewing.com
SUMMARY:Cribbage Tournament
DESCRIPTION:Join us at 6pm for our Cribbage Tournament – No Entry Fee –\nWinner gets a $20 Bar Tab and Gloating Rights
URL:https://crowpeakbrewing.com/event/cribbage-tournament/
LOCATION:Crow Peak Brewery
CATEGORIES:Community
END:VEVENT
BEGIN:VEVENT
DTSTART;TZID=America/Denver:20200307T110000
DTEND;TZID=America/Denver:20200307T140000
DTSTAMP:20260421T064248
CREATED:20200228T025253Z
LAST-MODIFIED:20200228T025253Z
UID:9523-1583578800-1583589600@crowpeakbrewing.com
SUMMARY:Marlin
DESCRIPTION:Classic Oldies and Country Standards and a bit of Comedy too
URL:https://crowpeakbrewing.com/event/marlin/
LOCATION:Crow Peak Brewery
CATEGORIES:Music
ATTACH;FMTTYPE=image/jpeg:https://crowpeakbrewing.com/wp-content/uploads/2020/02/87465765_205235593904402_3146111308651298816_n.jpg
END:VEVENT
BEGIN:VEVENT
DTSTART;VALUE=DATE:20200308
DTEND;VALUE=DATE:20200310
DTSTAMP:20260421T064248
CREATED:20200307T034813Z
LAST-MODIFIED:20200307T034813Z
UID:9717-1583690400-1583776799@crowpeakbrewing.com
SUMMARY:13th Anniversary
DESCRIPTION:On March 9th 2007 we opened our doors and began providing Spearfish with locally brewed beers. The first two beers I brewed were Spearbeer pale ale and Lookout Lager. In order to celebrate our 13 year anniversary we would like to invite you to come by the brewery on Monday and enjoy pints of these two beers for $4. We thank you for your support over the years! Cheers!
URL:https://crowpeakbrewing.com/event/13th-anniversary/
LOCATION:Crow Peak Brewery
CATEGORIES:Community
END:VEVENT
BEGIN:VEVENT
DTSTART;TZID=America/Denver:20200328T113000
DTEND;TZID=America/Denver:20200328T143000
DTSTAMP:20260421T064248
CREATED:20200306T063119Z
LAST-MODIFIED:20200306T063439Z
UID:9685-1585395000-1585405800@crowpeakbrewing.com
SUMMARY:Crow Peak Brewery Tap Take Over at The Back 40
DESCRIPTION:Crow Peak Brewing is taking over the taps at The Back 40 in Mitchell\, SD! Come and enjoy 6 of the most current brews from Crow Peak Brewery in Spearfish SD and enjoy some awesome Blu Grass from Humbletown!!! Going to be a great night!!
URL:https://crowpeakbrewing.com/event/crow-peak-brewery-tap-take-over-at-the-back-40/
CATEGORIES:Community,Music
END:VEVENT
END:VCALENDAR